28.50000000000000
0.00000000000000
0.00000000000000
-28.50000000000000
678257.25000000000000
5736579.75000000000000
